BEGIN:VCALENDAR
VERSION:2.0
PRODID:-//First Evangelical Church, Arcadia - ECPv6.15.20//NONSGML v1.0//EN
CALSCALE:GREGORIAN
METHOD:PUBLISH
X-WR-CALNAME:First Evangelical Church, Arcadia
X-ORIGINAL-URL:http://fecarcadia.org
X-WR-CALDESC:Events for First Evangelical Church, Arcadia
REFRESH-INTERVAL;VALUE=DURATION:PT1H
X-Robots-Tag:noindex
X-PUBLISHED-TTL:PT1H
BEGIN:VTIMEZONE
TZID:America/Los_Angeles
BEGIN:DAYLIGHT
TZOFFSETFROM:-0800
TZOFFSETTO:-0700
TZNAME:PDT
DTSTART:20170312T100000
END:DAYLIGHT
BEGIN:STANDARD
TZOFFSETFROM:-0700
TZOFFSETTO:-0800
TZNAME:PST
DTSTART:20171105T090000
END:STANDARD
BEGIN:DAYLIGHT
TZOFFSETFROM:-0800
TZOFFSETTO:-0700
TZNAME:PDT
DTSTART:20180311T100000
END:DAYLIGHT
BEGIN:STANDARD
TZOFFSETFROM:-0700
TZOFFSETTO:-0800
TZNAME:PST
DTSTART:20181104T090000
END:STANDARD
BEGIN:DAYLIGHT
TZOFFSETFROM:-0800
TZOFFSETTO:-0700
TZNAME:PDT
DTSTART:20190310T100000
END:DAYLIGHT
BEGIN:STANDARD
TZOFFSETFROM:-0700
TZOFFSETTO:-0800
TZNAME:PST
DTSTART:20191103T090000
END:STANDARD
BEGIN:DAYLIGHT
TZOFFSETFROM:-0800
TZOFFSETTO:-0700
TZNAME:PDT
DTSTART:20200308T100000
END:DAYLIGHT
BEGIN:STANDARD
TZOFFSETFROM:-0700
TZOFFSETTO:-0800
TZNAME:PST
DTSTART:20201101T090000
END:STANDARD
END:VTIMEZONE
BEGIN:VEVENT
DTSTART;TZID=America/Los_Angeles:20191222T100000
DTEND;TZID=America/Los_Angeles:20191222T130000
DTSTAMP:20260423T121351
CREATED:20181222T211358Z
LAST-MODIFIED:20181222T211358Z
UID:1561-1577008800-1577019600@fecarcadia.org
SUMMARY:2019 Christmas worship 聖誕節崇拜(聯堂)
DESCRIPTION:
URL:http://fecarcadia.org/event/2019-christmas-worship-%e8%81%96%e8%aa%95%e7%af%80%e5%b4%87%e6%8b%9c%e8%81%af%e5%a0%82/
CATEGORIES:Children Events,English Events,Youth Events,國語堂行事曆,粵語堂行事曆
END:VEVENT
BEGIN:VEVENT
DTSTART;TZID=America/Los_Angeles:20191208T130000
DTEND;TZID=America/Los_Angeles:20191208T150000
DTSTAMP:20260423T121351
CREATED:20181222T211028Z
LAST-MODIFIED:20181222T211028Z
UID:1557-1575810000-1575817200@fecarcadia.org
SUMMARY:2019 FEC Arcadia Annual meeting 全年會員大會(聯堂)
DESCRIPTION:
URL:http://fecarcadia.org/event/2019-fec-arcadia-annual-meeting-%e5%85%a8%e5%b9%b4%e6%9c%83%e5%93%a1%e5%a4%a7%e6%9c%83%e8%81%af%e5%a0%82/
CATEGORIES:English Events,國語堂行事曆,粵語堂行事曆
END:VEVENT
BEGIN:VEVENT
DTSTART;TZID=America/Los_Angeles:20191201T080000
DTEND;TZID=America/Los_Angeles:20191201T170000
DTSTAMP:20260423T121351
CREATED:20181222T210637Z
LAST-MODIFIED:20181222T210637Z
UID:1555-1575187200-1575219600@fecarcadia.org
SUMMARY:2019 FEC Association 會員大會(聯會)
DESCRIPTION:
URL:http://fecarcadia.org/event/2019-fec-association-%e6%9c%83%e5%93%a1%e5%a4%a7%e6%9c%83%e8%81%af%e6%9c%83/
CATEGORIES:Children Events,English Events,Youth Events,國語堂行事曆,粵語堂行事曆
END:VEVENT
BEGIN:VEVENT
DTSTART;TZID=America/Los_Angeles:20191004T080000
DTEND;TZID=America/Los_Angeles:20191006T170000
DTSTAMP:20260423T121351
CREATED:20181222T205654Z
LAST-MODIFIED:20181222T205654Z
UID:1545-1570176000-1570381200@fecarcadia.org
SUMMARY:2019 Mission Conference 宣教年會(聯會)
DESCRIPTION:
URL:http://fecarcadia.org/event/2019-mission-conference-%e5%ae%a3%e6%95%99%e5%b9%b4%e6%9c%83%e8%81%af%e6%9c%83/
CATEGORIES:English Events,國語堂行事曆,粵語堂行事曆
END:VEVENT
BEGIN:VEVENT
DTSTART;TZID=America/Los_Angeles:20190608T080000
DTEND;TZID=America/Los_Angeles:20190608T170000
DTSTAMP:20260423T121351
CREATED:20181222T203621Z
LAST-MODIFIED:20181222T203621Z
UID:1531-1559980800-1560013200@fecarcadia.org
SUMMARY:2019 Church Servicing day 教會服務日
DESCRIPTION:
URL:http://fecarcadia.org/event/2019-church-servicing-day-%e6%95%99%e6%9c%83%e6%9c%8d%e5%8b%99%e6%97%a5/
CATEGORIES:Children Events,English Events,Youth Events,國語堂行事曆,粵語堂行事曆
END:VEVENT
BEGIN:VEVENT
DTSTART;TZID=America/Los_Angeles:20190421T100000
DTEND;TZID=America/Los_Angeles:20190421T120000
DTSTAMP:20260423T121351
CREATED:20181222T195332Z
LAST-MODIFIED:20181222T195332Z
UID:1523-1555840800-1555848000@fecarcadia.org
SUMMARY:2019 Easter Sunday & Baptism 復活節崇拜及浸禮(聯堂)
DESCRIPTION:
URL:http://fecarcadia.org/event/2019-easter-sunday-baptism-%e5%be%a9%e6%b4%bb%e7%af%80%e5%b4%87%e6%8b%9c%e5%8f%8a%e6%b5%b8%e7%a6%ae%e8%81%af%e5%a0%82/
CATEGORIES:Children Events,English Events,Youth Events,國語堂行事曆,粵語堂行事曆
END:VEVENT
BEGIN:VEVENT
DTSTART;TZID=America/Los_Angeles:20190419T080000
DTEND;TZID=America/Los_Angeles:20190419T170000
DTSTAMP:20260423T121351
CREATED:20181222T195135Z
LAST-MODIFIED:20181222T195135Z
UID:1521-1555660800-1555693200@fecarcadia.org
SUMMARY:2019 Good Friday 受難節崇拜(聯堂)
DESCRIPTION:
URL:http://fecarcadia.org/event/2019-good-friday-%e5%8f%97%e9%9b%a3%e7%af%80%e5%b4%87%e6%8b%9c%e8%81%af%e5%a0%82/
CATEGORIES:Children Events,English Events,Youth Events,國語堂行事曆,粵語堂行事曆
END:VEVENT
BEGIN:VEVENT
DTSTART;TZID=America/Los_Angeles:20190127T100000
DTEND;TZID=America/Los_Angeles:20190127T120000
DTSTAMP:20260423T121351
CREATED:20181222T191628Z
LAST-MODIFIED:20181222T191756Z
UID:1501-1548583200-1548590400@fecarcadia.org
SUMMARY:FEC Arcadia 18th Anniversary & Baptism 亞凱迪亞羅省基督教會十八週年慶祝及浸禮
DESCRIPTION:
URL:http://fecarcadia.org/event/2019-fec-arcadia-18th-anniversary-baptism-%e4%ba%9e%e5%87%b1%e8%bf%aa%e4%ba%9e%e7%be%85%e7%9c%81%e5%9f%ba%e7%9d%a3%e6%95%99%e6%9c%83%e5%8d%81%e5%85%ab%e9%80%b1%e5%b9%b4%e6%85%b6%e7%a5%9d%e5%8f%8a/
LOCATION:First Evangelical Church\, Arcadia\, 625 W. Foothill Blvd\, Monrovia\, CA\, 91016\, United States
CATEGORIES:Children Events,English Events,Youth Events,國語堂行事曆,粵語堂行事曆
END:VEVENT
BEGIN:VEVENT
DTSTART;TZID=America/Los_Angeles:20181209T130000
DTEND;TZID=America/Los_Angeles:20181209T140000
DTSTAMP:20260423T121351
CREATED:20180521T215817Z
LAST-MODIFIED:20180531T202755Z
UID:892-1544360400-1544364000@fecarcadia.org
SUMMARY:Annual Membership Meeting 全年會員大會
DESCRIPTION:
URL:http://fecarcadia.org/event/2018-annual-membership-meeting/
CATEGORIES:English Events,國語堂行事曆,粵語堂行事曆
END:VEVENT
BEGIN:VEVENT
DTSTART;TZID=America/Los_Angeles:20181202T080000
DTEND;TZID=America/Los_Angeles:20181202T170000
DTSTAMP:20260423T121351
CREATED:20180521T220047Z
LAST-MODIFIED:20180531T202947Z
UID:894-1543737600-1543770000@fecarcadia.org
SUMMARY:FEC Association Annual Membership Meeting 聯會會員大會
DESCRIPTION:
URL:http://fecarcadia.org/event/2018-fec-association-annual-membership-meeting/
CATEGORIES:English Events,國語堂行事曆,粵語堂行事曆
END:VEVENT
BEGIN:VEVENT
DTSTART;TZID=America/Los_Angeles:20181201T180000
DTEND;TZID=America/Los_Angeles:20181201T203000
DTSTAMP:20260423T121351
CREATED:20181122T222353Z
LAST-MODIFIED:20181124T193625Z
UID:1363-1543687200-1543696200@fecarcadia.org
SUMMARY:【國語堂】2018佈道會
DESCRIPTION:每个人渴望有一幸福的人生，不少人穷一生追求幸福，却是寻不著。其实幸福並不难找，但我们必须深入了\n解什么是幸福、丰富、满足，才可以知道在哪里会有幸福。 \n12月1日週六，晚上6點晚餐然後佈道會，邀請你和你的家人朋友出席國語堂主辦的2018佈道會！2018 佈道會海報
URL:http://fecarcadia.org/event/2018-%e5%9c%8b%e8%aa%9e%e5%a0%82%e4%bd%88%e9%81%93%e6%9c%83/
LOCATION:First Evangelical Church\, Arcadia\, 625 W. Foothill Blvd\, Monrovia\, CA\, 91016\, United States
CATEGORIES:國語堂行事曆
END:VEVENT
BEGIN:VEVENT
DTSTART;TZID=America/Los_Angeles:20181122T100000
DTEND;TZID=America/Los_Angeles:20181122T120000
DTSTAMP:20260423T121351
CREATED:20180515T170800Z
LAST-MODIFIED:20180531T203108Z
UID:689-1542880800-1542888000@fecarcadia.org
SUMMARY:Thanksgiving Sharing 感恩節見證分享會
DESCRIPTION:
URL:http://fecarcadia.org/event/2018-thanksgiving-sharing/
CATEGORIES:English Events,國語堂行事曆,粵語堂行事曆
END:VEVENT
BEGIN:VEVENT
DTSTART;TZID=America/Los_Angeles:20181012T200000
DTEND;TZID=America/Los_Angeles:20181014T123000
DTSTAMP:20260423T121351
CREATED:20180515T170513Z
LAST-MODIFIED:20180531T203344Z
UID:687-1539374400-1539520200@fecarcadia.org
SUMMARY:Mission Conference 宣教年會
DESCRIPTION:
URL:http://fecarcadia.org/event/2018-mission-conference/
CATEGORIES:English Events,國語堂行事曆,粵語堂行事曆
END:VEVENT
BEGIN:VEVENT
DTSTART;VALUE=DATE:20180924
DTEND;VALUE=DATE:20180925
DTSTAMP:20260423T121351
CREATED:20180521T215146Z
LAST-MODIFIED:20180531T203617Z
UID:889-1537747200-1537833599@fecarcadia.org
SUMMARY:Mid-Autumn Festival 中秋節
DESCRIPTION:
URL:http://fecarcadia.org/event/2018-mid-autumn-festival/
CATEGORIES:English Events,國語堂行事曆,粵語堂行事曆
END:VEVENT
BEGIN:VEVENT
DTSTART;TZID=America/Los_Angeles:20180824T150000
DTEND;TZID=America/Los_Angeles:20180826T150000
DTSTAMP:20260423T121351
CREATED:20180521T182651Z
LAST-MODIFIED:20180728T213751Z
UID:882-1535122800-1535295600@fecarcadia.org
SUMMARY:All Church Retreat 全教會退修會
DESCRIPTION:Our retreat will be held on August 24-26 at Murrieta Hot Springs Christian Conference Center. Early-bird sign up on June. Stay tuned. \n將在8月24-26日於Murrieta Hot Springs Christian Conference Center舉行\, 六月份開始將以優惠價接受報名\, 敬請留意.
URL:http://fecarcadia.org/event/2018-all-church-retreat/
LOCATION:Murrieta Hot Springs Christian Conference Center\, 39405 Murrieta Hot Springs Rd\, Murrieta\, CA\, 92563\, United States
CATEGORIES:Children Events,English Events,Youth Events,國語堂行事曆,粵語堂行事曆
ATTACH;FMTTYPE=image/png:http://fecarcadia.org/wp-content/uploads/2018/07/all-church-retreat.png
END:VEVENT
BEGIN:VEVENT
DTSTART;VALUE=DATE:20180617
DTEND;VALUE=DATE:20180618
DTSTAMP:20260423T121351
CREATED:20180515T165541Z
LAST-MODIFIED:20180531T204410Z
UID:679-1529193600-1529279999@fecarcadia.org
SUMMARY:Father's Day 父親節
DESCRIPTION:
URL:http://fecarcadia.org/event/2018-fathers-day/
CATEGORIES:Children Events,English Events,Youth Events,國語堂行事曆,粵語堂行事曆
END:VEVENT
BEGIN:VEVENT
DTSTART;TZID=America/Los_Angeles:20180616T090000
DTEND;TZID=America/Los_Angeles:20180616T140000
DTSTAMP:20260423T121351
CREATED:20180521T181914Z
LAST-MODIFIED:20180531T204506Z
UID:879-1529139600-1529157600@fecarcadia.org
SUMMARY:Church Cleaning Day 全教會清潔日
DESCRIPTION:Church Cleaning Day is coming. We invite church members of all ages to join together on 6/16 (Sat) 9am – 2pm to give a refreshed look to our spiritual home. Lunch will be served. All are welcome! \n教會清潔日快將來臨。我們邀請所有任何年紀的會友在六月十六日（星期六）上午九時至下午二時一起使我們屬靈之家煥然一新。我們將會供應午餐，請大家同來參與！
URL:http://fecarcadia.org/event/2018-church-cleaning-day/
LOCATION:First Evangelical Church\, Arcadia\, 625 W. Foothill Blvd\, Monrovia\, CA\, 91016\, United States
CATEGORIES:Children Events,English Events,Youth Events,國語堂行事曆,粵語堂行事曆
ATTACH;FMTTYPE=image/jpeg:http://fecarcadia.org/wp-content/uploads/2018/05/33345827_2043998985866733_7684842793545498624_n.jpg
END:VEVENT
BEGIN:VEVENT
DTSTART;TZID=America/Los_Angeles:20180520T100000
DTEND;TZID=America/Los_Angeles:20180520T231000
DTSTAMP:20260423T121351
CREATED:20180515T164042Z
LAST-MODIFIED:20180531T204720Z
UID:675-1526810400-1526857800@fecarcadia.org
SUMMARY:Annual Pulpit Rotation 聯會講員互調
DESCRIPTION:
URL:http://fecarcadia.org/event/2018-annual-pulpit-rotation/
LOCATION:First Evangelical Church\, Arcadia – Sanctuary\, 625 W. Foothill Blvd\, Monrovia\, 91016\, United States
CATEGORIES:English Events,國語堂行事曆,粵語堂行事曆
END:VEVENT
END:VCALENDAR