BEGIN:VCALENDAR
VERSION:2.0
PRODID:-//First Evangelical Church, Arcadia - ECPv6.15.20//NONSGML v1.0//EN
CALSCALE:GREGORIAN
METHOD:PUBLISH
X-WR-CALNAME:First Evangelical Church, Arcadia
X-ORIGINAL-URL:http://fecarcadia.org
X-WR-CALDESC:Events for First Evangelical Church, Arcadia
REFRESH-INTERVAL;VALUE=DURATION:PT1H
X-Robots-Tag:noindex
X-PUBLISHED-TTL:PT1H
BEGIN:VTIMEZONE
TZID:America/Los_Angeles
BEGIN:DAYLIGHT
TZOFFSETFROM:-0800
TZOFFSETTO:-0700
TZNAME:PDT
DTSTART:20170312T100000
END:DAYLIGHT
BEGIN:STANDARD
TZOFFSETFROM:-0700
TZOFFSETTO:-0800
TZNAME:PST
DTSTART:20171105T090000
END:STANDARD
BEGIN:DAYLIGHT
TZOFFSETFROM:-0800
TZOFFSETTO:-0700
TZNAME:PDT
DTSTART:20180311T100000
END:DAYLIGHT
BEGIN:STANDARD
TZOFFSETFROM:-0700
TZOFFSETTO:-0800
TZNAME:PST
DTSTART:20181104T090000
END:STANDARD
BEGIN:DAYLIGHT
TZOFFSETFROM:-0800
TZOFFSETTO:-0700
TZNAME:PDT
DTSTART:20190310T100000
END:DAYLIGHT
BEGIN:STANDARD
TZOFFSETFROM:-0700
TZOFFSETTO:-0800
TZNAME:PST
DTSTART:20191103T090000
END:STANDARD
END:VTIMEZONE
BEGIN:VEVENT
DTSTART;TZID=America/Los_Angeles:20180520T100000
DTEND;TZID=America/Los_Angeles:20180520T231000
DTSTAMP:20260424T103155
CREATED:20180515T164042Z
LAST-MODIFIED:20180531T204720Z
UID:675-1526810400-1526857800@fecarcadia.org
SUMMARY:Annual Pulpit Rotation 聯會講員互調
DESCRIPTION:
URL:http://fecarcadia.org/event/2018-annual-pulpit-rotation/
LOCATION:First Evangelical Church\, Arcadia – Sanctuary\, 625 W. Foothill Blvd\, Monrovia\, 91016\, United States
CATEGORIES:English Events,國語堂行事曆,粵語堂行事曆
END:VEVENT
END:VCALENDAR